BEGIN:VCALENDAR
VERSION:2.0
PRODID:icalendar-ruby
CALSCALE:GREGORIAN
METHOD:PUBLISH
BEGIN:VEVENT
DTSTAMP:20260421T232914Z
UID:8-276629@56-7ministries.com
DTSTART:20261101T183000Z
DTEND:20261101T200000Z
CLASS:PUBLIC
CREATED:20260421T155828
DESCRIPTION:
LAST-MODIFIED:20260421T155828
LOCATION:1208 FM 1960\, Dayton\, TX 77535
SUMMARY:Sunday Services
URL;VALUE=URI:https://www.56-7ministries.com/events/sunday-services/2026-11
 -01
END:VEVENT
END:VCALENDAR
