BEGIN:VCALENDAR
VERSION:2.0
PRODID:icalendar-ruby
CALSCALE:GREGORIAN
METHOD:PUBLISH
BEGIN:VEVENT
DTSTAMP:20260421T201614Z
UID:8-276429@56-7ministries.com
DTSTART:20261018T173000Z
DTEND:20261018T190000Z
CLASS:PUBLIC
CREATED:20260421T104405
DESCRIPTION:
LAST-MODIFIED:20260421T104405
LOCATION:1208 FM 1960\, Dayton\, TX 77535
SUMMARY:Sunday Services
URL;VALUE=URI:https://www.56-7ministries.com/events/sunday-services/2026-10
 -18
END:VEVENT
END:VCALENDAR
