BEGIN:VCALENDAR
VERSION:2.0
PRODID:icalendar-ruby
CALSCALE:GREGORIAN
METHOD:PUBLISH
BEGIN:VEVENT
DTSTAMP:20260421T131922Z
UID:8-276227@56-7ministries.com
DTSTART:20260920T173000Z
DTEND:20260920T190000Z
CLASS:PUBLIC
CREATED:20260421T052821
DESCRIPTION:
LAST-MODIFIED:20260421T052821
LOCATION:1208 FM 1960\, Dayton\, TX 77535
SUMMARY:Sunday Services
URL;VALUE=URI:https://www.56-7ministries.com/events/sunday-services/2026-09
 -20
END:VEVENT
END:VCALENDAR
