BEGIN:VCALENDAR
VERSION:2.0
PRODID:icalendar-ruby
CALSCALE:GREGORIAN
METHOD:PUBLISH
BEGIN:VEVENT
DTSTAMP:20260421T082935Z
UID:8-276125@56-7ministries.com
DTSTART:20260830T173000Z
DTEND:20260830T190000Z
CLASS:PUBLIC
CREATED:20260420T182046
DESCRIPTION:
LAST-MODIFIED:20260420T182046
LOCATION:1208 FM 1960\, Dayton\, TX 77535
SUMMARY:Sunday Services
URL;VALUE=URI:https://www.56-7ministries.com/events/sunday-services/2026-08
 -30
END:VEVENT
END:VCALENDAR
