BEGIN:VCALENDAR
VERSION:2.0
PRODID:icalendar-ruby
CALSCALE:GREGORIAN
METHOD:PUBLISH
BEGIN:VEVENT
DTSTAMP:20260419T233640Z
UID:12-275282@56-7ministries.com
DTSTART:20261030T020000Z
DTEND:20261030T030000Z
CLASS:PUBLIC
CREATED:20260419T135604
DESCRIPTION:
LAST-MODIFIED:20260419T135604
LOCATION:
SUMMARY:End Time Bible Study
URL;VALUE=URI:https://www.56-7ministries.com/events/end-time-bible-study/20
 26-10-29
END:VEVENT
END:VCALENDAR
