BEGIN:VCALENDAR
VERSION:2.0
PRODID:icalendar-ruby
CALSCALE:GREGORIAN
METHOD:PUBLISH
BEGIN:VEVENT
DTSTAMP:20260419T201606Z
UID:12-275181@56-7ministries.com
DTSTART:20261016T020000Z
DTEND:20261016T030000Z
CLASS:PUBLIC
CREATED:20260419T101346
DESCRIPTION:
LAST-MODIFIED:20260419T101346
LOCATION:
SUMMARY:End Time Bible Study
URL;VALUE=URI:https://www.56-7ministries.com/events/end-time-bible-study/20
 26-10-15
END:VEVENT
END:VCALENDAR
