BEGIN:VCALENDAR
VERSION:2.0
PRODID:icalendar-ruby
CALSCALE:GREGORIAN
METHOD:PUBLISH
BEGIN:VEVENT
DTSTAMP:20260419T185120Z
UID:12-275180@56-7ministries.com
DTSTART:20261009T020000Z
DTEND:20261009T030000Z
CLASS:PUBLIC
CREATED:20260419T101346
DESCRIPTION:
LAST-MODIFIED:20260419T101346
LOCATION:
SUMMARY:End Time Bible Study
URL;VALUE=URI:https://www.56-7ministries.com/events/end-time-bible-study/20
 26-10-08
END:VEVENT
END:VCALENDAR
