BEGIN:VCALENDAR
VERSION:2.0
PRODID:icalendar-ruby
CALSCALE:GREGORIAN
METHOD:PUBLISH
BEGIN:VEVENT
DTSTAMP:20260419T135934Z
UID:12-275079@56-7ministries.com
DTSTART:20260918T020000Z
DTEND:20260918T030000Z
CLASS:PUBLIC
CREATED:20260419T063145
DESCRIPTION:
LAST-MODIFIED:20260419T063145
LOCATION:
SUMMARY:End Time Bible Study
URL;VALUE=URI:https://www.56-7ministries.com/events/end-time-bible-study/20
 26-09-17
END:VEVENT
END:VCALENDAR
