BEGIN:VCALENDAR
VERSION:2.0
PRODID:icalendar-ruby
CALSCALE:GREGORIAN
METHOD:PUBLISH
BEGIN:VEVENT
DTSTAMP:20260421T083433Z
UID:12-276166@56-7ministries.com
DTSTART:20260911T020000Z
DTEND:20260911T030000Z
CLASS:PUBLIC
CREATED:20260420T182046
DESCRIPTION:
LAST-MODIFIED:20260420T182046
LOCATION:
SUMMARY:End Time Bible Study
URL;VALUE=URI:https://www.56-7ministries.com/events/end-time-bible-study/20
 26-09-10
END:VEVENT
END:VCALENDAR
